BEGIN:VCALENDAR
VERSION:2.0
PRODID:-//TRAILBLAZER INITIATIVE NIGERIA - ECPv6.15.20//NONSGML v1.0//EN
CALSCALE:GREGORIAN
METHOD:PUBLISH
X-WR-CALNAME:TRAILBLAZER INITIATIVE NIGERIA
X-ORIGINAL-URL:https://trailblazerinitiative.org.ng
X-WR-CALDESC:Events for TRAILBLAZER INITIATIVE NIGERIA
REFRESH-INTERVAL;VALUE=DURATION:PT1H
X-Robots-Tag:noindex
X-PUBLISHED-TTL:PT1H
BEGIN:VTIMEZONE
TZID:UTC
BEGIN:STANDARD
TZOFFSETFROM:+0000
TZOFFSETTO:+0000
TZNAME:UTC
DTSTART:20210101T000000
END:STANDARD
END:VTIMEZONE
BEGIN:VEVENT
DTSTART;TZID=UTC:20220715T093000
DTEND;TZID=UTC:20220910T150000
DTSTAMP:20260420T010142
CREATED:20180816T115715Z
LAST-MODIFIED:20220711T164118Z
UID:5989-1657877400-1662822000@trailblazerinitiative.org.ng
SUMMARY:Free Vocational Empowerment Training
DESCRIPTION:To engage both in and out of school youths in Ibadan its environs during this summer holiday\, there will be a free vocational empowerment training programme for interested participants on; \n\nBasic Fashion Designing/Tailoring\nPhotography\nWebsite Design (WordPress 101)
URL:https://trailblazerinitiative.org.ng/event/emergency-first-aid-at-work-london/
LOCATION:Monatan\, ibadan\, 2nd Floor\, Stable Building\, Opposite SAO filling Station\, Monatan\, Ibadan\, Ibadan\, Oyo State\, 200225\, Nigeria
ATTACH;FMTTYPE=image/jpeg:https://trailblazerinitiative.org.ng/wp-content/uploads/0202/05/320172_455413894481045_1638447156_n.jpg
END:VEVENT
BEGIN:VEVENT
DTSTART;TZID=UTC:20220707T070000
DTEND;TZID=UTC:20230707T070000
DTSTAMP:20260420T010142
CREATED:20180816T120220Z
LAST-MODIFIED:20220711T163515Z
UID:5993-1657177200-1688713200@trailblazerinitiative.org.ng
SUMMARY:Call for Volunteer
DESCRIPTION:Are you passionate about making an impact and making positive inevitable in our society? Do you want to help in the personal development of young adults\, elimination of Female Genital mutilation (FGM)\, Gender-Based Violence (GBV)\, Harmful traditional practices and other development issues? \nIf yes\, then we need you. This is your chance to leave a mark. \nThe Trailblazer Initiative Nigeria is looking for volunteers to join a nationwide outreach to educate and engage youths both online (using social media and mass media) and onsite (communities). \nOur volunteers will have the opportunity to work and be part of the TBI team and will be able to make meaningful contributions to our programs and activities which includes; FGM\, Girls Education\, Accountability\, support for Youth Organizations\, SRH/GBV\, Youth\, and SDGs. \nELIGIBILITY AND EXPECTATION \nVolunteers must; \n\nBe willing to undergo an online training if selected\nHave an internet enabled phone (Android or iphone)\nBe willing to sensitize and educate students on media and information literacy and fact-checking as a means of combating fake news.\nMust understand the use of social media and be willing to use their platforms promote this mission.\nMust have good communication and critical thinking skills.\nHave strong commitment to the values and principles of volunteering\, respect for diversity and a willingness to work in a multicultural environment. They must also be able to adjust to changing\, and at times difficult\, living and working conditions.\nDisplay computer skills such as Word\, Excel\, Power point and use of email.\nFluent in written and spoken English Language\n\nAREAS OF MOST NEED: \n\nPublic Health Issues (WASH\, Community Health\, Nutrition\, EBF\, Immunization\, Maternal Health etc)\nICT (Graphics Design\, Infographics\, Data Mining\, Data Analysis\, Data Interpretation)\nMedia (Technical Reporting\, Media Content Development\, Social Media Optimization)\nMonitoring and Evaluation\nEducation (Basic Education\, Education in Emergencies\, Vocational and Technical Education)\nEconomic Empowerment (Vocational Skills\, Micro\, Small and Medium Enterprise Development)\nLaw and Legal Aid service (Development and review of human resource and grant agreements as well as Memoranda of Understanding\nOutreaches and Community Mobilization\n\nWHY YOU SHOULD VOLUNTEER WITH US \n\nMeet like-minded professional volunteers\nHelp communities in need to improve their quality of life.\nAn opportunity to broaden your skills and enrich your career.\nBe part of our work defending the rights of children and young people.\nWe improve your employability:Volunteering with us is an excellent way to boost your career prospects\nYou are needed:Being a volunteer\, you can directly get involved with a noble work\, serving those who need your care and affection. This would also be a chance for you to know that not everyone in this world is born lucky\, and you’re needed to stand by a few of them\, if not all.\nYou’ll make meaningful connections:Volunteering with us lets you meet people from all walks of life. It gives you the chance to form relationships that can have a lasting impact on you. You could meet your new best friend\, future business partner or have a conversation that sparks a change in your life.\nSelf-esteem builder:As a volunteer at TBI you’re exposed to a community you’re often not used to being a part of and you learn so many new things. Your new-found knowledge is coupled with the fact that you feel absolutely great because you’re helping others. Before you even know it you’re running off empathy and self-efficacy which does wonders for your confidence and self-esteem.\nBe inspired:Taking a break from your day-to-day routines\, putting your life into perspective\, and learning about other people’s lives might inspire an idea or spark a new interest. You might come up with a plan to build on the development of your own community\, or discover a new life calling\, here at TBI we inspire and help you be an inspiration.\nHave fun:Volunteering is not something to take lightly and needs to be treated with the utmost respect\, but it’s also fun! It’s a way to meet new people\, embrace cultural traditions and encounter new places\, at TBI we encourage a number of fun activities that helps refreshes our employees and volunteers as well.\n\nSelected volunteers will be notified and trained. \nLoading…
URL:https://trailblazerinitiative.org.ng/event/call-for-volunteer/
LOCATION:Monatan\, ibadan\, 2nd Floor\, Stable Building\, Opposite SAO filling Station\, Monatan\, Ibadan\, Ibadan\, Oyo State\, 200225\, Nigeria
ATTACH;FMTTYPE=image/jpeg:https://trailblazerinitiative.org.ng/wp-content/uploads/2018/08/chuttersnap-cX2vElQ5aHk-unsplash.jpg
END:VEVENT
END:VCALENDAR